BEGIN:VCALENDAR
VERSION:2.0
PRODID:-//The Munsters - ECPv6.15.20//NONSGML v1.0//EN
CALSCALE:GREGORIAN
METHOD:PUBLISH
X-WR-CALNAME:The Munsters
X-ORIGINAL-URL:https://munsters.com
X-WR-CALDESC:Events for The Munsters
REFRESH-INTERVAL;VALUE=DURATION:PT1H
X-Robots-Tag:noindex
X-PUBLISHED-TTL:PT1H
BEGIN:VTIMEZONE
TZID:America/Detroit
BEGIN:DAYLIGHT
TZOFFSETFROM:-0500
TZOFFSETTO:-0400
TZNAME:EDT
DTSTART:20240310T070000
END:DAYLIGHT
BEGIN:STANDARD
TZOFFSETFROM:-0400
TZOFFSETTO:-0500
TZNAME:EST
DTSTART:20241103T060000
END:STANDARD
BEGIN:DAYLIGHT
TZOFFSETFROM:-0500
TZOFFSETTO:-0400
TZNAME:EDT
DTSTART:20250309T070000
END:DAYLIGHT
BEGIN:STANDARD
TZOFFSETFROM:-0400
TZOFFSETTO:-0500
TZNAME:EST
DTSTART:20251102T060000
END:STANDARD
BEGIN:DAYLIGHT
TZOFFSETFROM:-0500
TZOFFSETTO:-0400
TZNAME:EDT
DTSTART:20260308T070000
END:DAYLIGHT
BEGIN:STANDARD
TZOFFSETFROM:-0400
TZOFFSETTO:-0500
TZNAME:EST
DTSTART:20261101T060000
END:STANDARD
END:VTIMEZONE
BEGIN:VEVENT
DTSTART;TZID=America/Detroit:20250623T180000
DTEND;TZID=America/Detroit:20250623T230000
DTSTAMP:20260425T041153
CREATED:20250623T194826Z
LAST-MODIFIED:20250623T194826Z
UID:2656-1750701600-1750719600@munsters.com
SUMMARY:Super 322 Drive-In Theatre
DESCRIPTION:CLEARFIELD\, Pa. (WTAJ) — Local fans of “The Munsters” sitcom not only get to screen the cult classic movie spawned from the TV series\, but also get to meet the beloved star of the show on Monday\, June 23. \nThe Super 322 Drive-In is hosting actor Butch Patrick\, who played young Eddie Munster\, for a family friendly and nostalgic event. Patrick himself will even be bringing the iconic Drag-u-la and Eddie’s chopper. \nMunster merchandise will be available for purchase and fans will have the opportunity to receive an autograph and picture with Butch Patrick. \nAccording to the Drive-In’s post\, participants can even enter into an Eddie Munster look-alike contest. \nAdmission to the theatre will be $13 per carload and will start at 6 p.m. Screening of the 1966 movie “Munster\, Go Home!” will begin at dusk. \nhttps://www.super322drive-in.com/
URL:https://munsters.com/event/super-322-drive-in-theatre/
LOCATION:Super 322 Drive-In Theater\, 1682 Woodland-Bigler Hwy\, Woodland\, PA\, 16881\, United States
CATEGORIES:Appearance
ATTACH;FMTTYPE=image/png:https://munsters.com/wp-content/uploads/2025/06/Super-322.png
END:VEVENT
END:VCALENDAR