BEGIN:VCALENDAR
VERSION:2.0
PRODID:-//The Munsters - ECPv6.15.20//NONSGML v1.0//EN
CALSCALE:GREGORIAN
METHOD:PUBLISH
X-ORIGINAL-URL:https://munsters.com
X-WR-CALDESC:Events for The Munsters
REFRESH-INTERVAL;VALUE=DURATION:PT1H
X-Robots-Tag:noindex
X-PUBLISHED-TTL:PT1H
BEGIN:VTIMEZONE
TZID:America/Detroit
BEGIN:DAYLIGHT
TZOFFSETFROM:-0500
TZOFFSETTO:-0400
TZNAME:EDT
DTSTART:20240310T070000
END:DAYLIGHT
BEGIN:STANDARD
TZOFFSETFROM:-0400
TZOFFSETTO:-0500
TZNAME:EST
DTSTART:20241103T060000
END:STANDARD
BEGIN:DAYLIGHT
TZOFFSETFROM:-0500
TZOFFSETTO:-0400
TZNAME:EDT
DTSTART:20250309T070000
END:DAYLIGHT
BEGIN:STANDARD
TZOFFSETFROM:-0400
TZOFFSETTO:-0500
TZNAME:EST
DTSTART:20251102T060000
END:STANDARD
BEGIN:DAYLIGHT
TZOFFSETFROM:-0500
TZOFFSETTO:-0400
TZNAME:EDT
DTSTART:20260308T070000
END:DAYLIGHT
BEGIN:STANDARD
TZOFFSETFROM:-0400
TZOFFSETTO:-0500
TZNAME:EST
DTSTART:20261101T060000
END:STANDARD
END:VTIMEZONE
BEGIN:VEVENT
DTSTART;TZID=America/Detroit:20250627T170000
DTEND;TZID=America/Detroit:20250627T200000
DTSTAMP:20260424T120234
CREATED:20250625T231116Z
LAST-MODIFIED:20250625T231116Z
UID:2662-1751043600-1751054400@munsters.com
SUMMARY:Ontario 4th of July Festival Car Show
DESCRIPTION:Ontario 4th of July Festival Car Show\nWe’re thrilled to announce a legendary guest at this year’s Ontario 4th of July Festival Car Show — Butch Patrick\, the real “Eddie Munster”\, will be joining us this Friday\, June 27th from 5PM to 8PM at Marshall Park! \nCome see Butch Patrick alongside his iconic rides — the Drag-U-La and The Eddie Chopper!Don’t miss your chance to meet a TV classic as we officially kick off the Ontario 4th of July Festival in style!Special thanks to WMFD-TV\, Mix 106.1FM WVNO\, Gates State Farm\, and The Cove Coffee Shop & Pizza Company for making this possible! \nhttps://ontario4thofjulyfestival.com/
URL:https://munsters.com/event/ontario-4th-of-july-festival-car-show/
LOCATION:Ontario 4th of July Festival Car Show\, 3375 Milligan Rd.\, Ontario\, OH\, 44906\, United States
CATEGORIES:Appearance
ATTACH;FMTTYPE=image/png:https://munsters.com/wp-content/uploads/2025/06/Ontario-Car-Show.png
END:VEVENT
END:VCALENDAR