BEGIN:VCALENDAR
VERSION:2.0
PRODID:-//The Munsters - ECPv6.15.20//NONSGML v1.0//EN
CALSCALE:GREGORIAN
METHOD:PUBLISH
X-WR-CALNAME:The Munsters
X-ORIGINAL-URL:https://munsters.com
X-WR-CALDESC:Events for The Munsters
REFRESH-INTERVAL;VALUE=DURATION:PT1H
X-Robots-Tag:noindex
X-PUBLISHED-TTL:PT1H
BEGIN:VTIMEZONE
TZID:America/Detroit
BEGIN:DAYLIGHT
TZOFFSETFROM:-0500
TZOFFSETTO:-0400
TZNAME:EDT
DTSTART:20240310T070000
END:DAYLIGHT
BEGIN:STANDARD
TZOFFSETFROM:-0400
TZOFFSETTO:-0500
TZNAME:EST
DTSTART:20241103T060000
END:STANDARD
BEGIN:DAYLIGHT
TZOFFSETFROM:-0500
TZOFFSETTO:-0400
TZNAME:EDT
DTSTART:20250309T070000
END:DAYLIGHT
BEGIN:STANDARD
TZOFFSETFROM:-0400
TZOFFSETTO:-0500
TZNAME:EST
DTSTART:20251102T060000
END:STANDARD
BEGIN:DAYLIGHT
TZOFFSETFROM:-0500
TZOFFSETTO:-0400
TZNAME:EDT
DTSTART:20260308T070000
END:DAYLIGHT
BEGIN:STANDARD
TZOFFSETFROM:-0400
TZOFFSETTO:-0500
TZNAME:EST
DTSTART:20261101T060000
END:STANDARD
END:VTIMEZONE
BEGIN:VEVENT
DTSTART;TZID=America/Detroit:20250710T170000
DTEND;TZID=America/Detroit:20250710T210000
DTSTAMP:20260424T091109
CREATED:20250703T161239Z
LAST-MODIFIED:20250703T161239Z
UID:2673-1752166800-1752181200@munsters.com
SUMMARY:Haunting In The Hills
DESCRIPTION:MUNSTER MANIA\nJoin us in welcoming Eddie Munster himself\, Butch Patrick at Haunting in the Hills on the grounds of the old Stagecoach Stop located at 7203 US-12 in the Irish Hills area of Onsted Michigan Thursday July 10th from 5pm to 9pm for MUNSTER MANIA! \nButch will be signing autographs and taking pics as well as showing off Dragula and Eddie’s Munster Bike. \nOTHER FRIGHT-TIVITIES AT THIS ALL AGES FAMILY FRIENDLY SHOW INCLUDE: \n-DUNK TANK – DUNK HERMAN MUNSTER \n-DARK MAZE – COURTESY OF OUR FRIENDS AT THE HALFWAY TO HALLOWEEN EXPO \n-CAR SHOW – COME SHOW OFF YOUR CLASSIC\, QUIRKY\, RAT ROD OR HEARSE CARS. \n-MUNSTER GO HOME SCREENING \n-HEARSE SMASH – SWING A SLEDGE AND TAKE YOUR AGGRESSION ABOUT THE EARLY 90’s MUNSTER TV REBOOT\, OUT ON AN EARLY 90’s HEARSE. \nCAR SHOW – FREE\nDARK MAZE – FREE\nEVENT ENTRY BEYOND THE CAR SHOW – $5\nDUNK TANK – $5\nHEARSE SMASH – $5 (Every 3 sledge swings on the hearse)\nMUNSTER GO HOME SCREENING – $5 (Limited to 100 seats)\nBUTCH PATRICK AUTOGRAPHS/SELFIES – TBD \nMake sure to clear your calendar for the evening of Thursday July 10th because you wont want to miss this! \nhttps://allevents.in/onsted/munster-mania/200028420596810
URL:https://munsters.com/event/haunting-in-the-hills/
LOCATION:Haunting In The Hills\, 7203 US Hwy 12\, Onsted\, 49265\, United States
CATEGORIES:Appearance
ATTACH;FMTTYPE=image/jpeg:https://munsters.com/wp-content/uploads/2025/07/Haunting-in-the-Hills.jpg
END:VEVENT
END:VCALENDAR