BEGIN:VCALENDAR
VERSION:2.0
PRODID:-//The Munsters - ECPv6.15.20//NONSGML v1.0//EN
CALSCALE:GREGORIAN
METHOD:PUBLISH
X-WR-CALNAME:The Munsters
X-ORIGINAL-URL:https://munsters.com
X-WR-CALDESC:Events for The Munsters
REFRESH-INTERVAL;VALUE=DURATION:PT1H
X-Robots-Tag:noindex
X-PUBLISHED-TTL:PT1H
BEGIN:VTIMEZONE
TZID:America/Detroit
BEGIN:DAYLIGHT
TZOFFSETFROM:-0500
TZOFFSETTO:-0400
TZNAME:EDT
DTSTART:20240310T070000
END:DAYLIGHT
BEGIN:STANDARD
TZOFFSETFROM:-0400
TZOFFSETTO:-0500
TZNAME:EST
DTSTART:20241103T060000
END:STANDARD
BEGIN:DAYLIGHT
TZOFFSETFROM:-0500
TZOFFSETTO:-0400
TZNAME:EDT
DTSTART:20250309T070000
END:DAYLIGHT
BEGIN:STANDARD
TZOFFSETFROM:-0400
TZOFFSETTO:-0500
TZNAME:EST
DTSTART:20251102T060000
END:STANDARD
BEGIN:DAYLIGHT
TZOFFSETFROM:-0500
TZOFFSETTO:-0400
TZNAME:EDT
DTSTART:20260308T070000
END:DAYLIGHT
BEGIN:STANDARD
TZOFFSETFROM:-0400
TZOFFSETTO:-0500
TZNAME:EST
DTSTART:20261101T060000
END:STANDARD
END:VTIMEZONE
BEGIN:VEVENT
DTSTART;TZID=America/Detroit:20250427T100000
DTEND;TZID=America/Detroit:20250427T170000
DTSTAMP:20260424T133054
CREATED:20250410T235946Z
LAST-MODIFIED:20250410T235946Z
UID:2608-1745748000-1745773200@munsters.com
SUMMARY:Vermont Sci-Fi\, Fantasy & Horror Expo
DESCRIPTION:Discover a world of fantasy at the 6th Annual Vermont Sci-Fi\, Fantasy & Horror Expo\, April 26 and 27 indoors at the Champlain Valley Exposition. \nA family-friendly event for all ages – delight in whimsical workshops\, ghostbusting demos\, and role-playing games. Visit over 100 vendors\, cosplayers\, authors\, artists\, and game designers. \nInteract with fan organizations\, live demos\, panels\, and workshops. Dress like your favorite sci-fi or fantasy character\, costumes are always welcome but never required! \nThe Vermont Sci-Fi & Fantasy Expo is held annually at the Champlain Valley Exposition\, 105 Pearl St\, Essex Junction\, VT 05452. \nSaturday\, April 26 from 10 am – 5 pm\nSunday\, April 27 from 10 am – 5 pm \nTickets are $20 for one day or $30 for two days.\nKids 6-12 are $5.\nKids under 6 get in free!\nParking is free!​ \nhttps://www.vtgatherings.com/ \n \n 
URL:https://munsters.com/event/vermont-sci-fi-fantasy-horror-expo/
LOCATION:Vermont Sci-Fi\, Fantasy & Horror Expo\, 105 Pearl St.\, Essex Junction\, VT\, 05452\, United States
CATEGORIES:Appearance
ATTACH;FMTTYPE=image/jpeg:https://munsters.com/wp-content/uploads/2025/04/vermont-sci-fi-fantasy-horror-expo.jpg
END:VEVENT
END:VCALENDAR