BEGIN:VCALENDAR
VERSION:2.0
PRODID:-//The Munsters - ECPv6.15.20//NONSGML v1.0//EN
CALSCALE:GREGORIAN
METHOD:PUBLISH
X-WR-CALNAME:The Munsters
X-ORIGINAL-URL:https://munsters.com
X-WR-CALDESC:Events for The Munsters
REFRESH-INTERVAL;VALUE=DURATION:PT1H
X-Robots-Tag:noindex
X-PUBLISHED-TTL:PT1H
BEGIN:VTIMEZONE
TZID:America/Detroit
BEGIN:DAYLIGHT
TZOFFSETFROM:-0500
TZOFFSETTO:-0400
TZNAME:EDT
DTSTART:20240310T070000
END:DAYLIGHT
BEGIN:STANDARD
TZOFFSETFROM:-0400
TZOFFSETTO:-0500
TZNAME:EST
DTSTART:20241103T060000
END:STANDARD
BEGIN:DAYLIGHT
TZOFFSETFROM:-0500
TZOFFSETTO:-0400
TZNAME:EDT
DTSTART:20250309T070000
END:DAYLIGHT
BEGIN:STANDARD
TZOFFSETFROM:-0400
TZOFFSETTO:-0500
TZNAME:EST
DTSTART:20251102T060000
END:STANDARD
BEGIN:DAYLIGHT
TZOFFSETFROM:-0500
TZOFFSETTO:-0400
TZNAME:EDT
DTSTART:20260308T070000
END:DAYLIGHT
BEGIN:STANDARD
TZOFFSETFROM:-0400
TZOFFSETTO:-0500
TZNAME:EST
DTSTART:20261101T060000
END:STANDARD
END:VTIMEZONE
BEGIN:VEVENT
DTSTART;TZID=America/Detroit:20251021T160000
DTEND;TZID=America/Detroit:20251021T200000
DTSTAMP:20260424T031037
CREATED:20251021T221222Z
LAST-MODIFIED:20251021T222844Z
UID:2751-1761062400-1761076800@munsters.com
SUMMARY:Foy's Halloween and Variety Store
DESCRIPTION:Come one\, come all to see Butch Patrick ( Eddie Munster ) from the hit series The Munsters at Foy’s Halloween Store on Tuesday\, October 21st\, from 4 pm-8 pm!! \nhttps://www.facebook.com/people/Foys-Halloween-and-Variety-Store/100068937728214/?checkpoint_src=any#
URL:https://munsters.com/event/foys-halloween-and-variety-store/
LOCATION:Foy’s Halloween & Variety Store\, 18 E Main St.\, Fairborn\, OH\, 45324\, United States
CATEGORIES:Appearance
ATTACH;FMTTYPE=image/jpeg:https://munsters.com/wp-content/uploads/2025/10/Foys-Halloween-Store.jpg
END:VEVENT
BEGIN:VEVENT
DTSTART;TZID=America/Detroit:20251024T100000
DTEND;TZID=America/Detroit:20251024T210000
DTSTAMP:20260424T031037
CREATED:20251021T222920Z
LAST-MODIFIED:20251021T222920Z
UID:2759-1761300000-1761339600@munsters.com
SUMMARY:IHRA Invasion of the Motorheadz
DESCRIPTION:We’re back with the IHRA Invasion of the MotorHeadz October 24th & 25th 2025. Be sure to Follow the KRF Arm Drop Dragz page for news and updates! Shake N Bake..!\nEvent Organizer: Kent Rose Foundation Inc.\n Here’s your full schedule\, run order\, and admission info:\n FRIDAY – October 24thGates Open: 9:00 AMTech Starts: 11:00 AMTest & Tune: 1:00 PMOpening Ceremony: 6:30 PMRace Starts: 7:00 PMFriday Class Run Order: Grocery Getter No-Tech Muscle Stick Shift Daily Driver\n SATURDAY – October 25thGates Open: 9:00 AMTech & Test Tune: 9:30 – 11:30 AMOpening Ceremony : NoonRace Starts: 12:30 PMBig Wheel Race Registration: 1:00 PMBig Wheel Race (Kids): 3:30 PMRace Resumes: 4:30 PMSaturday Class Run Order: Small Tire Budget Small Tire Daily Driver + RWYB (Run What Ya Brung) Hard Tire True Street\n ADMISSION:General Admission: $10Pit Pass (2-Day): $50Kids 12 & Under: FREE\nEVENT RACE PROMOTERS/OFFICIALS:HNS “Happy” Escobar\, Charlie Bennett\, Ryan Mitchell\nGENERAL SAFETY RULES FOR ALL CLASSESHelmet requiredPants and fire jacket requiredSeat-belts requiredDrivers must be 18 years or older with valid driver’s license.All vehicles must go through tech and be certified good to compete by tech director.\nCLASSESWATER BURNOUT ONLY\nSMALL TIRE/ENTRY $250/PAYOUT $20\,000/KENT ROSE TROPHY-factory roof/quarters (no hood ok)-28×10.5 non w or 275/60/15-no wheelie bars-No AWD-Cannot double enter with Budget Small Tire\nBUDGET SMALL TIRE/ENTRY $100/PAYOUT $2500/KENT ROSE TROPHY-factory roof/quarters (no hood ok)-28×10.5 non w or 275/60/15-no wheelie bars-No AWD-Cannot double enter with Small Tire\nRWYB/ENTRY $150/PAYOUT $5\,000/KENT ROSE TROPHY-Door car-AWD ok\nHARD TIRE/ENTRY $100/PAYOUT $2\,500/KENT ROSE TROPHY-same rules as small tire-220+ TW or 200+ TW on 17”+-No AWD\nSTICK SHIFT/ENTRY $100/PAYOUT $2\,500/KENT ROSE TROPHY-H Pattern manual transmission-No AWD\nTRUE STREET/ENTRY $100/PAYOUT $2\,500/KENT ROSE TROPHY-tagged and insured-any DOT tire-tubular front end ok\, no full tube chassis-Two front seats (race seats ok)-Must have dash-Functioning head/taillights\, turn signals-All body panels (no hood/aftermarket hood ok)-All glass or optic armor-Factory firewall location-must drive to and from lanes-No AWD-Functioning charging and cooling systems able to withstand long durations of idling and drivingunassisted.\nDAILY DRIVER**/ENTRY $50/PAYOUT $1000/KENT ROSE TROPHY-tagged and insured-200+ TW DOT Radial-275 max on 15-16” wheel\, 17” or bigger no max-Factory interior (factory dash\, front seats\, carpet\, etc\, rear seat delete ok **NO RACE SEATS**)-No cage-no trailer\, must drive into track*-OD transmission NO EXCEPTIONS-All factory chassis-Factory glass-Factory suspension location-Factory firewall location-Factory exhaust exit-Must retain factory AC/Heat-Functioning head/taillights\, turn signals-All body panels (Aftermarket hood ok)-Foot Brake only-No AWD-Functioning charging and cooling systems-Pump gas/e85-MUST FIT THE SPIRIT OF THE CLASS (Promoter/Tech discretion)\nDAILY DRIVER PLUS**/ENTRY $50/PAYOUT $1000/KENT ROSE TROPHY-tagged and insured-any DOT radial-15”+ wheel-stock like interior (2 front seats\, covered race seats ok\, factory dash\, interior carpet\, rear seat delete ok.)-No cage-no trailer\, must drive into track*-OD transmission NO EXCEPTIONS-All factory chassis-Factory Glass-Factory suspension location-Factory firewall location-Functioning head/taillights\, turn signals-Factory exhaust exit (Fender exit ok for turbo)-All body panels (aftermarket hood ok)-Foot Brake only-AWD ok on 200+ TW tire\, single power adder only-Functioning charging and cooling systems-No EV-Pump gas/e85-MUST FIT THE SPIRIT OF THE CLASS (Promoter/Tech discretion)\nGROCERY GETTER**/ENTRY $50/PAYOUT $500/KENT ROSE TROPHY-tagged and insured-200+ TW DOT Radial-275 max on 15-16” wheel\, 17” or bigger no max-FULL Factory interior-No cage-no trailer\, must drive into track*-OD transmission NO EXCEPTIONS-All factory chassis-Factory glass-Factory suspension location-Factory firewall location-Factory exhaust exit-Must retain factory AC/Heat-Functioning head/taillights\, turn signals-All body panels (Aftermarket hood ok)-Foot Brake only-V8 engines: No power adders-4 and 6 cylinder engines can have factory power adders-No V10 or V12 engines (no supercars)-No internal engine modifications (exhaust and intake mods ok)-No rear engine vehicles-No AWD-Functioning charging and cooling systems-Pump gas/e85-MUST FIT THE SPIRIT OF THE CLASS (Promoter/Tech discretion)\nNO TECH MUSCLE**/ENTRY$50/PAYOUT $500/KENT ROSE TROPHY-1992 and older vehicles-tagged and insured-200+ TW DOT Radial-275 max on 15-16” wheel\, 17” or bigger no max-stock like interior (2 front seats\, covered race seats ok\, factory dash\, interior carpet\, rear seat delete ok.)-Factory style transmission-All factory chassis-Factory glass-Factory suspension location-Factory firewall location-Factory exhaust exit-Must retain factory AC/Heat-Functioning head/taillights\, turn signals-All body panels (Aftermarket hood ok)-Foot Brake only-Carburetor or factory fuel injection/engine management-No AWD-Functioning charging and cooling systems-MUST FIT THE SPIRIT OF THE CLASS (Promoter/Tech discretion)\n*Off Site Trailer Parking for Daily Driver\, Daily Driver Plus and Grocery Getter Classes will be at the East Kentucky Science Center and Varia Planetarium Parking lot address 1 Bert Combs Dr\, Prestonsburg\, KY 41653.\n**TEST AND TUNE FOR DAILY DRIVER\, GROCERY GETTER\, NO TECH MUSCLE\, AND DAILY DRIVER PLUS CLASSES ONLY. If you plan to enter multiple classes and any class entered is not listed in this paragraph\, you will not be able to test and tune.\n*** There will be no allowance for external weight beyond the factory body of the car. This encompasses any weight attached to the parachute mount as well. However\, internal weight will still be permitted if approved during tech session. To uphold these guidelines\, all internal weight must be securely fastened. Loose internal weight will not be permitted under any circumstances in any class. This rule is aimed at guaranteeing the safety of all drivers and spectators.\n*NOTE REGARDING PAYOUTS*All race winners will receive cash payouts. Since the Kent Rose Foundation is a nonprofit organization\, it’s required for winners to fill out 1099 forms to get their payouts. These forms help us follow IRS rules and report the cash winnings.\nSHAKE N BAKE !\n\nhttps://www.facebook.com/events/530579029937678/
URL:https://munsters.com/event/ihra-invasion-of-the-motorheadz/
LOCATION:Invasion of the Motorheadz\, 411 Airport Rd.\, Hagerhill\, KY\, 41222\, United States
CATEGORIES:Appearance
ATTACH;FMTTYPE=image/jpeg:https://munsters.com/wp-content/uploads/2025/10/Invasion-of-the-Motor-Headz.jpg
END:VEVENT
BEGIN:VEVENT
DTSTART;TZID=America/Detroit:20251025T100000
DTEND;TZID=America/Detroit:20251025T190000
DTSTAMP:20260424T031037
CREATED:20251021T223233Z
LAST-MODIFIED:20251021T223233Z
UID:2763-1761386400-1761418800@munsters.com
SUMMARY:IHRA Invasion of the Motorheadz
DESCRIPTION:We’re back with the IHRA Invasion of the MotorHeadz October 24th & 25th 2025. Be sure to Follow the KRF Arm Drop Dragz page for news and updates! Shake N Bake..!\nEvent Organizer: Kent Rose Foundation Inc.\n Here’s your full schedule\, run order\, and admission info:\n FRIDAY – October 24thGates Open: 9:00 AMTech Starts: 11:00 AMTest & Tune: 1:00 PMOpening Ceremony: 6:30 PMRace Starts: 7:00 PMFriday Class Run Order: Grocery Getter No-Tech Muscle Stick Shift Daily Driver\n SATURDAY – October 25thGates Open: 9:00 AMTech & Test Tune: 9:30 – 11:30 AMOpening Ceremony : NoonRace Starts: 12:30 PMBig Wheel Race Registration: 1:00 PMBig Wheel Race (Kids): 3:30 PMRace Resumes: 4:30 PMSaturday Class Run Order: Small Tire Budget Small Tire Daily Driver + RWYB (Run What Ya Brung) Hard Tire True Street\n ADMISSION:General Admission: $10Pit Pass (2-Day): $50Kids 12 & Under: FREE\nEVENT RACE PROMOTERS/OFFICIALS:HNS “Happy” Escobar\, Charlie Bennett\, Ryan Mitchell\nGENERAL SAFETY RULES FOR ALL CLASSESHelmet requiredPants and fire jacket requiredSeat-belts requiredDrivers must be 18 years or older with valid driver’s license.All vehicles must go through tech and be certified good to compete by tech director.\nCLASSESWATER BURNOUT ONLY\nSMALL TIRE/ENTRY $250/PAYOUT $20\,000/KENT ROSE TROPHY-factory roof/quarters (no hood ok)-28×10.5 non w or 275/60/15-no wheelie bars-No AWD-Cannot double enter with Budget Small Tire\nBUDGET SMALL TIRE/ENTRY $100/PAYOUT $2500/KENT ROSE TROPHY-factory roof/quarters (no hood ok)-28×10.5 non w or 275/60/15-no wheelie bars-No AWD-Cannot double enter with Small Tire\nRWYB/ENTRY $150/PAYOUT $5\,000/KENT ROSE TROPHY-Door car-AWD ok\nHARD TIRE/ENTRY $100/PAYOUT $2\,500/KENT ROSE TROPHY-same rules as small tire-220+ TW or 200+ TW on 17”+-No AWD\nSTICK SHIFT/ENTRY $100/PAYOUT $2\,500/KENT ROSE TROPHY-H Pattern manual transmission-No AWD\nTRUE STREET/ENTRY $100/PAYOUT $2\,500/KENT ROSE TROPHY-tagged and insured-any DOT tire-tubular front end ok\, no full tube chassis-Two front seats (race seats ok)-Must have dash-Functioning head/taillights\, turn signals-All body panels (no hood/aftermarket hood ok)-All glass or optic armor-Factory firewall location-must drive to and from lanes-No AWD-Functioning charging and cooling systems able to withstand long durations of idling and drivingunassisted.\nDAILY DRIVER**/ENTRY $50/PAYOUT $1000/KENT ROSE TROPHY-tagged and insured-200+ TW DOT Radial-275 max on 15-16” wheel\, 17” or bigger no max-Factory interior (factory dash\, front seats\, carpet\, etc\, rear seat delete ok **NO RACE SEATS**)-No cage-no trailer\, must drive into track*-OD transmission NO EXCEPTIONS-All factory chassis-Factory glass-Factory suspension location-Factory firewall location-Factory exhaust exit-Must retain factory AC/Heat-Functioning head/taillights\, turn signals-All body panels (Aftermarket hood ok)-Foot Brake only-No AWD-Functioning charging and cooling systems-Pump gas/e85-MUST FIT THE SPIRIT OF THE CLASS (Promoter/Tech discretion)\nDAILY DRIVER PLUS**/ENTRY $50/PAYOUT $1000/KENT ROSE TROPHY-tagged and insured-any DOT radial-15”+ wheel-stock like interior (2 front seats\, covered race seats ok\, factory dash\, interior carpet\, rear seat delete ok.)-No cage-no trailer\, must drive into track*-OD transmission NO EXCEPTIONS-All factory chassis-Factory Glass-Factory suspension location-Factory firewall location-Functioning head/taillights\, turn signals-Factory exhaust exit (Fender exit ok for turbo)-All body panels (aftermarket hood ok)-Foot Brake only-AWD ok on 200+ TW tire\, single power adder only-Functioning charging and cooling systems-No EV-Pump gas/e85-MUST FIT THE SPIRIT OF THE CLASS (Promoter/Tech discretion)\nGROCERY GETTER**/ENTRY $50/PAYOUT $500/KENT ROSE TROPHY-tagged and insured-200+ TW DOT Radial-275 max on 15-16” wheel\, 17” or bigger no max-FULL Factory interior-No cage-no trailer\, must drive into track*-OD transmission NO EXCEPTIONS-All factory chassis-Factory glass-Factory suspension location-Factory firewall location-Factory exhaust exit-Must retain factory AC/Heat-Functioning head/taillights\, turn signals-All body panels (Aftermarket hood ok)-Foot Brake only-V8 engines: No power adders-4 and 6 cylinder engines can have factory power adders-No V10 or V12 engines (no supercars)-No internal engine modifications (exhaust and intake mods ok)-No rear engine vehicles-No AWD-Functioning charging and cooling systems-Pump gas/e85-MUST FIT THE SPIRIT OF THE CLASS (Promoter/Tech discretion)\nNO TECH MUSCLE**/ENTRY$50/PAYOUT $500/KENT ROSE TROPHY-1992 and older vehicles-tagged and insured-200+ TW DOT Radial-275 max on 15-16” wheel\, 17” or bigger no max-stock like interior (2 front seats\, covered race seats ok\, factory dash\, interior carpet\, rear seat delete ok.)-Factory style transmission-All factory chassis-Factory glass-Factory suspension location-Factory firewall location-Factory exhaust exit-Must retain factory AC/Heat-Functioning head/taillights\, turn signals-All body panels (Aftermarket hood ok)-Foot Brake only-Carburetor or factory fuel injection/engine management-No AWD-Functioning charging and cooling systems-MUST FIT THE SPIRIT OF THE CLASS (Promoter/Tech discretion)\n*Off Site Trailer Parking for Daily Driver\, Daily Driver Plus and Grocery Getter Classes will be at the East Kentucky Science Center and Varia Planetarium Parking lot address 1 Bert Combs Dr\, Prestonsburg\, KY 41653.\n**TEST AND TUNE FOR DAILY DRIVER\, GROCERY GETTER\, NO TECH MUSCLE\, AND DAILY DRIVER PLUS CLASSES ONLY. If you plan to enter multiple classes and any class entered is not listed in this paragraph\, you will not be able to test and tune.\n*** There will be no allowance for external weight beyond the factory body of the car. This encompasses any weight attached to the parachute mount as well. However\, internal weight will still be permitted if approved during tech session. To uphold these guidelines\, all internal weight must be securely fastened. Loose internal weight will not be permitted under any circumstances in any class. This rule is aimed at guaranteeing the safety of all drivers and spectators.\n*NOTE REGARDING PAYOUTS*All race winners will receive cash payouts. Since the Kent Rose Foundation is a nonprofit organization\, it’s required for winners to fill out 1099 forms to get their payouts. These forms help us follow IRS rules and report the cash winnings.\nSHAKE N BAKE !\n\nhttps://www.facebook.com/events/530579029937678/
URL:https://munsters.com/event/ihra-invasion-of-the-motorheadz-2/
LOCATION:Invasion of the Motorheadz\, 411 Airport Rd.\, Hagerhill\, KY\, 41222\, United States
CATEGORIES:Appearance
ATTACH;FMTTYPE=image/jpeg:https://munsters.com/wp-content/uploads/2025/10/Invasion-of-the-Motor-Headz.jpg
END:VEVENT
BEGIN:VEVENT
DTSTART;TZID=America/Detroit:20251026T130000
DTEND;TZID=America/Detroit:20251026T160000
DTSTAMP:20260424T031037
CREATED:20251021T223945Z
LAST-MODIFIED:20251021T223945Z
UID:2765-1761483600-1761494400@munsters.com
SUMMARY:Tall Man Toys & Comics
DESCRIPTION:At Tall Man Toys on October 26th from 1-4 pm! Come\, Butch Patrick\, for a special Halloween appearance! \nhttps://www.tallmantoys.com/
URL:https://munsters.com/event/tall-man-toys-comics/
LOCATION:Tall Man Toys & Comics\, 7600 Kingston Pike. #104\, Knoxville\, TN\, 37919\, United States
CATEGORIES:Appearance
ATTACH;FMTTYPE=image/png:https://munsters.com/wp-content/uploads/2025/10/Tall-Man-Toys-and-Comics.png
END:VEVENT
BEGIN:VEVENT
DTSTART;TZID=America/Detroit:20251026T190000
DTEND;TZID=America/Detroit:20251026T220000
DTSTAMP:20260424T031037
CREATED:20251021T224953Z
LAST-MODIFIED:20251021T224953Z
UID:2767-1761505200-1761516000@munsters.com
SUMMARY:Tennessee Terror at Maple Lane Farms
DESCRIPTION:Get ready for the ultimate scare at Tennessee Terror\, Blount County’s most terrifying haunted attraction. Formerly known as AMS Haunted Attractions\, Tennessee Terror is dedicated to crafting unforgettable\, spine-chilling experiences for guests of all ages\, delivering the scream of a lifetime. Recognized by Constantine’s Haunt Reviews in 2024 as Tennessee’s #1 Haunted Attraction\, with accolades for Best Actors\, Most Interactive Experience\, and the Haunter’s Choice Award\, Tennessee Terror is an absolute must-see. This year\, we’re kicking off an exciting rebrand with a brand-new theme and the largest attraction we’ve ever built. Expanding on the legacy of AMS\, Tennessee Terror now boasts over 6\,000 square feet of heart-pounding thrills and frights! \nhttps://www.tnterror.com/
URL:https://munsters.com/event/tennessee-terror-at-maple-lane-farms/
LOCATION:Maple Lane Farms\, 1126 Maple Ln.\, Greenback\, TN\, 37742\, United States
CATEGORIES:Appearance
ATTACH;FMTTYPE=image/png:https://munsters.com/wp-content/uploads/2025/10/Tenessee-Terror.png
END:VEVENT
BEGIN:VEVENT
DTSTART;TZID=America/Detroit:20251027T170000
DTEND;TZID=America/Detroit:20251027T210000
DTSTAMP:20260424T031037
CREATED:20251021T230527Z
LAST-MODIFIED:20251021T230527Z
UID:2771-1761584400-1761598800@munsters.com
SUMMARY:The Oddities Museum
DESCRIPTION:On a Monday? Yes! On a Monday\, and worth it! A little blast off for the Halloween week. Come meet the real Eddie Munster that we all love. He is coming in hot with the most popular Halloween rod\, the Dragula! This\, of course\, isn’t everything that night. See some hearses up close and shop for spooky books from Grim Reader Book Shop and local Atlanta author\, D.C. Phillips.\nHang out with friends\, partake in free drinks and snacks\, and check out the Vintage Halloween exhibit in the museum gallery. For those interested in decorating an ornamental pumpkin\, please RSVP\, It’s only $5.00\, and we provide the pumpkins & decorations\nhttps://theodditiesmuseum.org/
URL:https://munsters.com/event/the-oddities-museum/
LOCATION:The Oddities Museum\, 3870 North Peachtree Rd. STE C\, Chamblee\, GA\, 30341\, United States
CATEGORIES:Appearance
ATTACH;FMTTYPE=image/png:https://munsters.com/wp-content/uploads/2025/10/Oddities-Museum.png
END:VEVENT
BEGIN:VEVENT
DTSTART;TZID=America/Detroit:20251029T190000
DTEND;TZID=America/Detroit:20251029T210000
DTSTAMP:20260424T031037
CREATED:20251005T171434Z
LAST-MODIFIED:20251005T172850Z
UID:2731-1761764400-1761771600@munsters.com
SUMMARY:Quaker Steak & Lube
DESCRIPTION:A Fright Night at Quaker Steak & Lube! \nRev your engines and rattle your bones—because this Bike Night is about to get deadly fun!\n When: Wednesday\, October 29th at 4:00 pm  Where: Quaker Steak & Lube\nHere’s what’s creeping your way:\n The Goofy Mortician Himself\, Dr. Paul Bearer – rolling in with his hearse\, ready to dish out puns\, chills\, and chuckles from beyond the grave.\n Butch Patrick (aka Eddie Munster!) – yes\, that Eddie Munster\, live and in person\, bringing along the legendary Dragula hot rod straight out of TV horror history.\n Bike Night Madness – chrome\, leather\, and horsepower meet cobwebs and cackles.\n Live Music – tunes to wake the dead (and keep the bikers grooving).\n Awesome Food & Drinks – fuel up with frightfully good eats and bone-chilling brews.\n Vendors – grab some ghoulish gear and biker swag. Open to the public. Free admission.\nSo polish your fangs\, shine your chrome\, and join us for a night where monsters meet motorcycles\, and the only thing scarier than the costumes… is missing out!\n Presented by Quaker Steak & Lube—where the food is killer and the fun is to die for! \n\nhttps://thelube.com/locations/florida/pinellas-park-clearwater/\nhttps://drpaulbearer.com/
URL:https://munsters.com/event/quaker-steak-lube/
LOCATION:Quaker Steak & Lube\, 10400 49th Street N.\, Clearwater\, Florida\, 33762
CATEGORIES:Appearance
ATTACH;FMTTYPE=image/png:https://munsters.com/wp-content/uploads/2025/10/Quaker-Steak-Lube-Wednesday.png
END:VEVENT
BEGIN:VEVENT
DTSTART;TZID=America/Detroit:20251030T160000
DTEND;TZID=America/Detroit:20251030T190000
DTSTAMP:20260424T031037
CREATED:20251005T172918Z
LAST-MODIFIED:20251005T172918Z
UID:2735-1761840000-1761850800@munsters.com
SUMMARY:Quaker Steak & Lube
DESCRIPTION:🎃 Ghoul-Fueled Fun at Quaker Steak & Lube! 🕸️ \nOn October 30th from 4:00–7:00 PM\, Quaker Steak & Lube is turning into the creepiest\, coolest car meet this side of Transylvania! \n🚗💀 Special Guests: \n\nButch Patrick (a.k.a. Eddie Munster) will be rolling in with the legendary Munsters Dragula — the only hot rod that looks like it could win a drag race and a funeral procession.\nDr. Paul Bearer will be creeping up in his classic hearse\, proving once and for all that you can take it with you… if it’s on four wheels.\n\n🏆 Larry’s Car Show: Bring your ride\, register it\, and you could win prizes and trophies that are to die for. Plus\, all registered cars get 10% off food purchases — because nothing fuels a monster mash like wings and burgers. \n👻 Why You Can’t Miss It: \n\nMeet TV’s original little monster\, Eddie Munster himself!\nSnap pics with two of the spookiest rides ever built.\nChow down on food so good it’s scary.\nShow off your car and maybe take home a trophy (or at least bragging rights until the next full moon).\n\n🦇 Mark your calendars\, polish your chrome\, and prepare for a frightfully fun night at Quaker Steak & Lube! \nhttps://thelube.com/locations/florida/pinellas-park-clearwater/\nhttps://drpaulbearer.com/
URL:https://munsters.com/event/quaker-steak-lube-2/
LOCATION:Quaker Steak & Lube\, 10400 49th Street N.\, Clearwater\, Florida\, 33762
CATEGORIES:Appearance
ATTACH;FMTTYPE=image/png:https://munsters.com/wp-content/uploads/2025/10/Quaker-Steak-Lube-Thursday.png
END:VEVENT
BEGIN:VEVENT
DTSTART;TZID=America/Detroit:20251031T130000
DTEND;TZID=America/Detroit:20251031T190000
DTSTAMP:20260424T031037
CREATED:20251005T165907Z
LAST-MODIFIED:20251005T165907Z
UID:2723-1761915600-1761937200@munsters.com
SUMMARY:Spooky Empire
DESCRIPTION:Come meet Butch and all his celebrity friends! Grab some awesome Munsters merch while you’re there! \nSpooky Empire has quickly become one of the most respected Horror and Halloween event and promotion companies in the United States\, bringing to life two of the most popular horror conventions in the nation\, with fans attending from all over the world. \nOctober’s event\, Ultimate Horror Weekend\, has grown significantly since its modest start in Fort Lauderdale in 2003. After finding a permanent home in Orlando\, FL\, it has become one of the largest horror conventions in the nation\, with more and more fans attending each year. Just when you think the show can’t be topped\, Spooky Empire brings it bigger and better the next year! Each show is more monstrous than the last. \nSpooky Empire is THE weekend for Horror\, Halloween\, and Rock n Roll fans of all ages! Where else can you meet and mingle with your favorite horror movie and TV stars\, buy any collectible you can imagine from your choice of over 200 vendors and artists\, see new and up and coming films as well as your old favorites\, take part in one of the largest Zombie Walks\, get tattooed by some of the best artists from around the world\, and of course party ‘til your heart’s content…or until you puke…and that doesn’t even list half of the events that go on during this non-stop weekend of horrors. \nCome on out to a Spooky Empire event and find out why they are considered The Dark Side of Comic Con! We promise you’ve never experienced anything like it! – Stay Spooky! \nhttps://spookyempire.com/
URL:https://munsters.com/event/spooky-empire/
LOCATION:Spooky Empire\, 9801 International Drive\, Orlando\, FL\, 32819\, United States
CATEGORIES:Appearance
ATTACH;FMTTYPE=image/jpeg:https://munsters.com/wp-content/uploads/2025/10/Nightmare-Weekend.jpg
END:VEVENT
END:VCALENDAR